BEGIN:VCALENDAR
VERSION:2.0
PRODID:-//EMPOWER: Education Model Program on Water-Energy Research - ECPv4.7.4//NONSGML v1.0//EN
CALSCALE:GREGORIAN
METHOD:PUBLISH
X-WR-CALNAME:EMPOWER: Education Model Program on Water-Energy Research
X-ORIGINAL-URL:https://empower.syr.edu
X-WR-CALDESC:Events for EMPOWER: Education Model Program on Water-Energy Research
BEGIN:VEVENT
DTSTART;VALUE=DATE:20190208
DTEND;VALUE=DATE:20190209
DTSTAMP:20260419T223326
CREATED:20190111T222052Z
LAST-MODIFIED:20190111T222052Z
UID:1980-1549584000-1549670399@empower.syr.edu
SUMMARY:Alan Alda Communicating Science Workshop
DESCRIPTION:This workshop was developed to help scientists speak more vividly and expressively about their research and foster a more genuine connection with their audience. Stay tuned for more detail on this exciting all-day event for EMPOWER trainees and interested EMPOWER faculty. \n
URL:https://empower.syr.edu/event/alan-alda-communicating-science-workshop/
ORGANIZER;CN="Annie%20Pennella":MAILTO:apennell@syr.edu
END:VEVENT
END:VCALENDAR