BEGIN:VCALENDAR
VERSION:2.0
PRODID:-//EMPOWER: Education Model Program on Water-Energy Research - ECPv4.7.4//NONSGML v1.0//EN
CALSCALE:GREGORIAN
METHOD:PUBLISH
X-WR-CALNAME:EMPOWER: Education Model Program on Water-Energy Research
X-ORIGINAL-URL:https://empower.syr.edu
X-WR-CALDESC:Events for EMPOWER: Education Model Program on Water-Energy Research
BEGIN:VEVENT
DTSTART;TZID=America/New_York:20161021T083000
DTEND;TZID=America/New_York:20161021T093000
DTSTAMP:20260423T080202
CREATED:20161012T194213Z
LAST-MODIFIED:20161012T194333Z
UID:1107-1477038600-1477042200@empower.syr.edu
SUMMARY:Breakfast with Dr. Steven Holbrook
DESCRIPTION:Dr. Holbrook is a geophysicist who works with crustal-scale marine reflection and refraction seismic surveys.  In addition to his marine geophysics research\, he also has an interest in near-surface environmental geophysics as it pertains to watershed hydrology. \nDr. Holbrook is a co-founder of the WyCehg (Wyoming Center for Environmental Hydrology and Geophysics).  WyCEHG (pronounced “Y-Keg”) was established in July 2012 by a $20 M grant from the National Science Foundation’s EPSCoR program — the largest research grant ever awarded to the University of Wyoming.  http://steveholbrook.com/wycehg/ \nEMPOWER is hosting a catered breakfast with Dr. Holbrook on Friday October 21st at 8:30 – 9:30 am in Heroy conference room 333C.  This is an opportunity to interface with Dr. Holbrook and learn more about his research and the WyCEHG center. For more information\, please contact Robin Glas. \n
URL:https://empower.syr.edu/event/breakfast-dr-steven-holbrook/
LOCATION:333C Heroy\, Heroy Geology Laboratory\, Syracuse\, NY\, 13244\, United States
CATEGORIES:EMPOWER Event,Speakers,Water-Energy Seminar
ORGANIZER;CN="Deanna%20McCay":MAILTO:dhmccay@syr.edu
END:VEVENT
END:VCALENDAR