BEGIN:VCALENDAR
VERSION:2.0
PRODID:-//EMPOWER: Education Model Program on Water-Energy Research - ECPv4.7.4//NONSGML v1.0//EN
CALSCALE:GREGORIAN
METHOD:PUBLISH
X-WR-CALNAME:EMPOWER: Education Model Program on Water-Energy Research
X-ORIGINAL-URL:https://empower.syr.edu
X-WR-CALDESC:Events for EMPOWER: Education Model Program on Water-Energy Research
BEGIN:VEVENT
DTSTART;TZID=America/New_York:20190904T130000
DTEND;TZID=America/New_York:20190904T150000
DTSTAMP:20260421T192056
CREATED:20190821T145457Z
LAST-MODIFIED:20190821T145528Z
UID:2169-1567602000-1567609200@empower.syr.edu
SUMMARY:Dissertation Defense - Laura M. DeMott
DESCRIPTION:Trainee Laura DeMott will defend her dissertation entitled\, “Depositional constraints on lacustrine carbonates from the Winnemucca Dry Lake basin\, NV\, USA.” A hard copy is available for perusal in the Earth Science’s department office (Heroy 204)\, as required by the Department of Earth Sciences Graduate Student Protocol. If you are interested in Laura’s project\, please attend her defense in room 217 on September 4 at 1:00 PM. \n
URL:https://empower.syr.edu/event/dissertation-defense-laura-m-demott/
LOCATION:217 Heroy
END:VEVENT
END:VCALENDAR