BEGIN:VCALENDAR
VERSION:2.0
PRODID:-//EMPOWER: Education Model Program on Water-Energy Research - ECPv4.7.4//NONSGML v1.0//EN
CALSCALE:GREGORIAN
METHOD:PUBLISH
X-WR-CALNAME:EMPOWER: Education Model Program on Water-Energy Research
X-ORIGINAL-URL:https://empower.syr.edu
X-WR-CALDESC:Events for EMPOWER: Education Model Program on Water-Energy Research
BEGIN:VEVENT
DTSTART;TZID=America/New_York:20170420T160000
DTEND;TZID=America/New_York:20170420T170000
DTSTAMP:20260422T043325
CREATED:20161208T143807Z
LAST-MODIFIED:20161208T144040Z
UID:1180-1492704000-1492707600@empower.syr.edu
SUMMARY:Dr. Anna Martini
DESCRIPTION:Dr. Anna Martini\, from Amherst College\, will present her research at the KD Nelson Lecture Series. Details to come \n
URL:https://empower.syr.edu/event/dr-anna-martini/
LOCATION:113 Heroy\, Heroy Geology Laboratory\, Syracuse\, NY\, 13244\, United States
CATEGORIES:Speakers,Water-Energy Seminar
END:VEVENT
END:VCALENDAR