BEGIN:VCALENDAR
VERSION:2.0
PRODID:-//EMPOWER: Education Model Program on Water-Energy Research - ECPv4.7.4//NONSGML v1.0//EN
CALSCALE:GREGORIAN
METHOD:PUBLISH
X-WR-CALNAME:EMPOWER: Education Model Program on Water-Energy Research
X-ORIGINAL-URL:https://empower.syr.edu
X-WR-CALDESC:Events for EMPOWER: Education Model Program on Water-Energy Research
BEGIN:VEVENT
DTSTART;TZID=America/New_York:20170901T143000
DTEND;TZID=America/New_York:20170901T180000
DTSTAMP:20260419T205124
CREATED:20170731T191946Z
LAST-MODIFIED:20170731T191946Z
UID:1545-1504276200-1504288800@empower.syr.edu
SUMMARY:EMPOWER Orientation
DESCRIPTION:Details to come. \nTentatively planned for 2:30-4:30 with a reception to follow. \nThis event is for EMPOWER trainees only. Please contact Deanna for more information. \n
URL:https://empower.syr.edu/event/empower-orientation/
LOCATION:210 Heroy Geology Lab\, Syracuse\, NY
CATEGORIES:EMPOWER Event
ORGANIZER;CN="Deanna%20McCay":MAILTO:dhmccay@syr.edu
END:VEVENT
END:VCALENDAR