BEGIN:VCALENDAR
VERSION:2.0
PRODID:-//EMPOWER: Education Model Program on Water-Energy Research - ECPv4.7.4//NONSGML v1.0//EN
CALSCALE:GREGORIAN
METHOD:PUBLISH
X-WR-CALNAME:EMPOWER: Education Model Program on Water-Energy Research
X-ORIGINAL-URL:https://empower.syr.edu
X-WR-CALDESC:Events for EMPOWER: Education Model Program on Water-Energy Research
BEGIN:VEVENT
DTSTART;VALUE=DATE:20181130
DTEND;VALUE=DATE:20181201
DTSTAMP:20260424T124103
CREATED:20181128T194236Z
LAST-MODIFIED:20181128T194358Z
UID:1942-1543536000-1543622399@empower.syr.edu
SUMMARY:Hezel Associates Focus Group Day
DESCRIPTION:Focus groups to be held at three different times on Friday\, November 30. If you would like to participate\, please email Tashera Bolds\, tashera@hezel.com. A Hezel Associates staff member will send a confirmation email back to you. \n
URL:https://empower.syr.edu/event/hezel-associates-focus-group-day/
LOCATION:Heroy 333E EMPOWER suite – Small Conferece Room\, Syracuse\, NY\, 13244\, United States
ORGANIZER;CN="Annie%20Pennella":MAILTO:apennell@syr.edu
END:VEVENT
END:VCALENDAR