BEGIN:VCALENDAR
VERSION:2.0
PRODID:-//EMPOWER: Education Model Program on Water-Energy Research - ECPv4.7.4//NONSGML v1.0//EN
CALSCALE:GREGORIAN
METHOD:PUBLISH
X-WR-CALNAME:EMPOWER: Education Model Program on Water-Energy Research
X-ORIGINAL-URL:https://empower.syr.edu
X-WR-CALDESC:Events for EMPOWER: Education Model Program on Water-Energy Research
BEGIN:VEVENT
DTSTART;TZID=America/New_York:20191115T120000
DTEND;TZID=America/New_York:20191115T150000
DTSTAMP:20260422T082528
CREATED:20191114T205555Z
LAST-MODIFIED:20191118T205639Z
UID:2266-1573819200-1573830000@empower.syr.edu
SUMMARY:Kathy Fallon Lambert Visits EMPOWER
DESCRIPTION:EMPOWER is delighted to welcome Kathy Fallon Lambert to campus Friday November 15th. Fallon Lambert will be conducting a science communication workshop for trainees in Water Seminar including tuning uptalks trainees have prepared! \n
URL:https://empower.syr.edu/event/kathy-fallon-lambert-visits-empower/
END:VEVENT
END:VCALENDAR