BEGIN:VCALENDAR
VERSION:2.0
PRODID:-//EMPOWER: Education Model Program on Water-Energy Research - ECPv4.7.4//NONSGML v1.0//EN
CALSCALE:GREGORIAN
METHOD:PUBLISH
X-WR-CALNAME:EMPOWER: Education Model Program on Water-Energy Research
X-ORIGINAL-URL:https://empower.syr.edu
X-WR-CALDESC:Events for EMPOWER: Education Model Program on Water-Energy Research
BEGIN:VEVENT
DTSTART;TZID=America/New_York:20161104T153000
DTEND;TZID=America/New_York:20161104T163000
DTSTAMP:20260424T094225
CREATED:20161003T192049Z
LAST-MODIFIED:20161003T192049Z
UID:1033-1478273400-1478277000@empower.syr.edu
SUMMARY:Robin Glas to speak at WAGGS
DESCRIPTION:PhD student and EMPOWER trainee\, Robin Glas\, will be speaking about her research at WAGGS. \nWAGGS\, the Waggoner Geology Graduate Seminar\, is an informal\, low-stress opportunity for students to present some of their work\, whether it is in concept\, in progress\, or completed.  \n
URL:https://empower.syr.edu/event/robin-glas-speak-waggs/
LOCATION:210 Heroy Geology Lab\, Syracuse\, NY
CATEGORIES:Of Interest
ORGANIZER;CN="Deanna%20McCay":MAILTO:dhmccay@syr.edu
END:VEVENT
END:VCALENDAR