BEGIN:VCALENDAR
VERSION:2.0
PRODID:-//EMPOWER: Education Model Program on Water-Energy Research - ECPv4.7.4//NONSGML v1.0//EN
CALSCALE:GREGORIAN
METHOD:PUBLISH
X-WR-CALNAME:EMPOWER: Education Model Program on Water-Energy Research
X-ORIGINAL-URL:https://empower.syr.edu
X-WR-CALDESC:Events for EMPOWER: Education Model Program on Water-Energy Research
BEGIN:VEVENT
DTSTART;VALUE=DATE:20180601
DTEND;VALUE=DATE:20180617
DTSTAMP:20260425T153612
CREATED:20180403T173911Z
LAST-MODIFIED:20180403T173911Z
UID:1775-1527811200-1529193599@empower.syr.edu
SUMMARY:Rwandan Field Course
DESCRIPTION:This course will engage EMPOWER students in field research as part of an interdisciplinary team working in challenging conditions. Students will travel to Lake Kivu\, Rwanda\, in the African Great Rift Valley\, to study processes of hydrocarbon source rock formation\, unique methods of fossil fuel extraction\, and energy solutions used in the developing world. The course is designed to prepare students technically in their fields of study\, but also to provide preparation for careers requiring intensive collaboration. \n
URL:https://empower.syr.edu/event/rwandan-field-course/
ORGANIZER;CN="Annie%20Pennella":MAILTO:apennell@syr.edu
END:VEVENT
END:VCALENDAR