BEGIN:VCALENDAR
VERSION:2.0
PRODID:-//EMPOWER: Education Model Program on Water-Energy Research - ECPv4.7.4//NONSGML v1.0//EN
CALSCALE:GREGORIAN
METHOD:PUBLISH
X-WR-CALNAME:EMPOWER: Education Model Program on Water-Energy Research
X-ORIGINAL-URL:https://empower.syr.edu
X-WR-CALDESC:Events for EMPOWER: Education Model Program on Water-Energy Research
BEGIN:VEVENT
DTSTART;TZID=America/New_York:20161026T160000
DTEND;TZID=America/New_York:20161026T180000
DTSTAMP:20260423T193604
CREATED:20160921T145512Z
LAST-MODIFIED:20161003T191410Z
UID:945-1477497600-1477504800@empower.syr.edu
SUMMARY:Suite 333 Grand Opening
DESCRIPTION:Syracuse University administrators are invited to learn more about EMPOWER and celebrate the completion of the new EMPOWER Office Suite. \nThis event is by invitation only. Please contact Deanna McCay for more information. \n
URL:https://empower.syr.edu/event/suite-333-grand-opening/
LOCATION:333 Heroy\, Heroy Geology Laboratory\, Syracuse\, NY\, 13244\, United States
CATEGORIES:EMPOWER Event
ATTACH;FMTTYPE=image/jpeg:https://empower.syr.edu/wp-content/uploads/2016/09/Fig-7b.jpg
ORGANIZER;CN="Deanna%20McCay":MAILTO:dhmccay@syr.edu
END:VEVENT
END:VCALENDAR