BEGIN:VCALENDAR
VERSION:2.0
PRODID:-//EMPOWER: Education Model Program on Water-Energy Research - ECPv4.7.4//NONSGML v1.0//EN
CALSCALE:GREGORIAN
METHOD:PUBLISH
X-WR-CALNAME:EMPOWER: Education Model Program on Water-Energy Research
X-ORIGINAL-URL:https://empower.syr.edu
X-WR-CALDESC:Events for EMPOWER: Education Model Program on Water-Energy Research
BEGIN:VEVENT
DTSTART;VALUE=DATE:20171004
DTEND;VALUE=DATE:20171005
DTSTAMP:20260422T235623
CREATED:20170831T133558Z
LAST-MODIFIED:20170925T185407Z
UID:1595-1507075200-1507161599@empower.syr.edu
SUMMARY:Syracuse Center of Excellence Symposium
DESCRIPTION:This event is required for students enrolled in the Water-Energy seminar! Please see http://syracusecoe.syr.edu/symposium/ for more information. \n
URL:https://empower.syr.edu/event/syracuse-center-excellence-symposium/
LOCATION:Syracuse\, 13244\, United States
CATEGORIES:Of Interest,Water-Energy Seminar
END:VEVENT
END:VCALENDAR